BEGIN:VCALENDAR
VERSION:2.0
PRODID:-//Rotary Youth Exchange 6690 - ECPv6.14.2//NONSGML v1.0//EN
CALSCALE:GREGORIAN
METHOD:PUBLISH
X-WR-CALNAME:Rotary Youth Exchange 6690
X-ORIGINAL-URL:https://6690exchange.com
X-WR-CALDESC:Events for Rotary Youth Exchange 6690
REFRESH-INTERVAL;VALUE=DURATION:PT1H
X-Robots-Tag:noindex
X-PUBLISHED-TTL:PT1H
BEGIN:VTIMEZONE
TZID:America/New_York
BEGIN:DAYLIGHT
TZOFFSETFROM:-0500
TZOFFSETTO:-0400
TZNAME:EDT
DTSTART:20210314T070000
END:DAYLIGHT
BEGIN:STANDARD
TZOFFSETFROM:-0400
TZOFFSETTO:-0500
TZNAME:EST
DTSTART:20211107T060000
END:STANDARD
END:VTIMEZONE
BEGIN:VTIMEZONE
TZID:UTC
BEGIN:STANDARD
TZOFFSETFROM:+0000
TZOFFSETTO:+0000
TZNAME:UTC
DTSTART:20210101T000000
END:STANDARD
END:VTIMEZONE
BEGIN:VEVENT
DTSTART;TZID=America/New_York:20211113T130000
DTEND;TZID=America/New_York:20211113T160000
DTSTAMP:20260419T143431
CREATED:20210803T173159Z
LAST-MODIFIED:20210922T142914Z
UID:3664-1636808400-1636819200@6690exchange.com
SUMMARY:Informational ZOOM meeting
DESCRIPTION:Saturday November 13th (1pm-4pm) VIRTUAL \nemail to join: \nDrakeLundstrom@gmail.com \n  \n 
URL:https://6690exchange.com/event/informational-zoom-meeting-2/
LOCATION:ZOOM
END:VEVENT
BEGIN:VEVENT
DTSTART;VALUE=DATE:20211115
DTEND;VALUE=DATE:20211116
DTSTAMP:20260419T143431
CREATED:20210803T173309Z
LAST-MODIFIED:20210803T173855Z
UID:3666-1636934400-1637020799@6690exchange.com
SUMMARY:Long Term APPLICATIONS DUE. NO EXTENSIONS.
DESCRIPTION:LT outbounds required to attend interviews and trainings January and onwards
URL:https://6690exchange.com/event/long-term-applications-due-no-extensions/
LOCATION:OH
END:VEVENT
END:VCALENDAR