BEGIN:VCALENDAR
VERSION:2.0
PRODID:-//Rotary Youth Exchange 6690 - ECPv6.14.2//NONSGML v1.0//EN
CALSCALE:GREGORIAN
METHOD:PUBLISH
X-ORIGINAL-URL:https://6690exchange.com
X-WR-CALDESC:Events for Rotary Youth Exchange 6690
REFRESH-INTERVAL;VALUE=DURATION:PT1H
X-Robots-Tag:noindex
X-PUBLISHED-TTL:PT1H
BEGIN:VTIMEZONE
TZID:America/New_York
BEGIN:DAYLIGHT
TZOFFSETFROM:-0500
TZOFFSETTO:-0400
TZNAME:EDT
DTSTART:20200308T070000
END:DAYLIGHT
BEGIN:STANDARD
TZOFFSETFROM:-0400
TZOFFSETTO:-0500
TZNAME:EST
DTSTART:20201101T060000
END:STANDARD
END:VTIMEZONE
BEGIN:VEVENT
DTSTART;TZID=America/New_York:20201121T080000
DTEND;TZID=America/New_York:20201121T170000
DTSTAMP:20260420T073302
CREATED:20201014T173319Z
LAST-MODIFIED:20201014T173319Z
UID:3634-1605945600-1605978000@6690exchange.com
SUMMARY:Training
DESCRIPTION:Topic: RYE 6690 Training\nTime: Nov 21\, 2020 02:00 PM Eastern Time (US and Canada) \nJoin Zoom Meeting\nhttps://us02web.zoom.us/j/83552118429?pwd=T21iQmFBbFBrK3M5WWNnak5VYlgzZz09
URL:https://6690exchange.com/event/training/
LOCATION:OH
END:VEVENT
END:VCALENDAR