BEGIN:VCALENDAR
VERSION:2.0
PRODID:-//Rotary Youth Exchange 6690 - ECPv6.14.2//NONSGML v1.0//EN
CALSCALE:GREGORIAN
METHOD:PUBLISH
X-WR-CALNAME:Rotary Youth Exchange 6690
X-ORIGINAL-URL:https://6690exchange.com
X-WR-CALDESC:Events for Rotary Youth Exchange 6690
REFRESH-INTERVAL;VALUE=DURATION:PT1H
X-Robots-Tag:noindex
X-PUBLISHED-TTL:PT1H
BEGIN:VTIMEZONE
TZID:America/New_York
BEGIN:DAYLIGHT
TZOFFSETFROM:-0500
TZOFFSETTO:-0400
TZNAME:EDT
DTSTART:20220313T070000
END:DAYLIGHT
BEGIN:STANDARD
TZOFFSETFROM:-0400
TZOFFSETTO:-0500
TZNAME:EST
DTSTART:20221106T060000
END:STANDARD
END:VTIMEZONE
BEGIN:VEVENT
DTSTART;TZID=America/New_York:20220108T130000
DTEND;TZID=America/New_York:20220108T170000
DTSTAMP:20260419T131550
CREATED:20210803T174056Z
LAST-MODIFIED:20220104T032253Z
UID:3672-1641646800-1641661200@6690exchange.com
SUMMARY:OUTBOUND TRAINING @ Columbus Metro Library (MEETING IN PERSON)
DESCRIPTION:The plan for  Saturday\, Jan 8th is as follows:\n\n1-2:30PM: Outbound training session\nLocation: Columbus Metropolitan Library Meeting Room 3A.\nAddress: 96 S Grant Ave\, Columbus\, OH 43215\n\n3-4PM: Guided Ohio State House tour\n\n4-5PM: Second training session at library
URL:https://6690exchange.com/event/meeting-in-person-outbound-training/
LOCATION:Columbus Metropolitan Library\, 96 S Grant Avenue\, Columbus\, OH\, 43215\, United States
END:VEVENT
END:VCALENDAR