BEGIN:VCALENDAR
VERSION:2.0
PRODID:-//Rotary Youth Exchange 6690 - ECPv6.14.2//NONSGML v1.0//EN
CALSCALE:GREGORIAN
METHOD:PUBLISH
X-ORIGINAL-URL:https://6690exchange.com
X-WR-CALDESC:Events for Rotary Youth Exchange 6690
REFRESH-INTERVAL;VALUE=DURATION:PT1H
X-Robots-Tag:noindex
X-PUBLISHED-TTL:PT1H
BEGIN:VTIMEZONE
TZID:America/New_York
BEGIN:DAYLIGHT
TZOFFSETFROM:-0500
TZOFFSETTO:-0400
TZNAME:EDT
DTSTART:20210314T070000
END:DAYLIGHT
BEGIN:STANDARD
TZOFFSETFROM:-0400
TZOFFSETTO:-0500
TZNAME:EST
DTSTART:20211107T060000
END:STANDARD
END:VTIMEZONE
BEGIN:VEVENT
DTSTART;TZID=America/New_York:20211023T130000
DTEND;TZID=America/New_York:20211023T180000
DTSTAMP:20260419T172610
CREATED:20210803T173606Z
LAST-MODIFIED:20211015T195709Z
UID:3670-1634994000-1635012000@6690exchange.com
SUMMARY:Informational Meeting - Slate Run Metro Park- Shady Grove Shelter House
DESCRIPTION:Saturday\, October 23rd (1pm-6pm) IN PERSON (outside) \nWe will begin the afternoon with info sessions\, broken up by an opportunity to visit the park’s historical farm. This is a farm at which time has been turned back to the 1880s and one can see first-hand what farm life was like in that time. At 4PM\, we will be setting off for the Circleville Pumpkin Show for food\, fair\, and huge pumpkins. This entire event will be held outside so please dress and plan accordingly. We look forward to seeing you there! \n  \nSlate Run Park \n1375 SR 674 N\, Canal Winchester\, OH 43103 \n39.75719\,-82.82787 \nFrom I-270\, take US 33 east toward Lancaster to the Canal Winchester/SR 674 exit. Turn right onto Gender Road/SR 674 and go about 2 miles until it dead-ends into Lithopolis Road. Turn left and go about 1⁄2 mile to SR 674. Turn right and go about 4 miles to the entrance on the right.
URL:https://6690exchange.com/event/informational-meeting/
LOCATION:Slate Run Metro Park\, 1375 SR 674 N\, Canal Winchester\, OH\, 43103\, United States
END:VEVENT
END:VCALENDAR