BEGIN:VCALENDAR
VERSION:2.0
PRODID:-//Rotary Youth Exchange 6690 - ECPv6.14.2//NONSGML v1.0//EN
CALSCALE:GREGORIAN
METHOD:PUBLISH
X-WR-CALNAME:Rotary Youth Exchange 6690
X-ORIGINAL-URL:https://6690exchange.com
X-WR-CALDESC:Events for Rotary Youth Exchange 6690
REFRESH-INTERVAL;VALUE=DURATION:PT1H
X-Robots-Tag:noindex
X-PUBLISHED-TTL:PT1H
BEGIN:VTIMEZONE
TZID:UTC
BEGIN:STANDARD
TZOFFSETFROM:+0000
TZOFFSETTO:+0000
TZNAME:UTC
DTSTART:20210101T000000
END:STANDARD
END:VTIMEZONE
BEGIN:VEVENT
DTSTART;TZID=UTC:20211014T190000
DTEND;TZID=UTC:20211014T203000
DTSTAMP:20260419T172437
CREATED:20211004T190215Z
LAST-MODIFIED:20211004T190334Z
UID:3724-1634238000-1634243400@6690exchange.com
SUMMARY:Informational ZOOM Meeting - VIRTUAL
DESCRIPTION:Informational Meeting – Virtual \nemail to obtain link: Drake \nDrakeLundstrom@gmail.com
URL:https://6690exchange.com/event/informational-meeting-virtual/
LOCATION:OH
END:VEVENT
END:VCALENDAR