BEGIN:VCALENDAR
VERSION:2.0
PRODID:-//Rotary Youth Exchange 6690 - ECPv6.14.2//NONSGML v1.0//EN
CALSCALE:GREGORIAN
METHOD:PUBLISH
X-ORIGINAL-URL:https://6690exchange.com
X-WR-CALDESC:Events for Rotary Youth Exchange 6690
REFRESH-INTERVAL;VALUE=DURATION:PT1H
X-Robots-Tag:noindex
X-PUBLISHED-TTL:PT1H
BEGIN:VTIMEZONE
TZID:America/New_York
BEGIN:DAYLIGHT
TZOFFSETFROM:-0500
TZOFFSETTO:-0400
TZNAME:EDT
DTSTART:20200308T070000
END:DAYLIGHT
BEGIN:STANDARD
TZOFFSETFROM:-0400
TZOFFSETTO:-0500
TZNAME:EST
DTSTART:20201101T060000
END:STANDARD
END:VTIMEZONE
BEGIN:VEVENT
DTSTART;TZID=America/New_York:20201201T140000
DTEND;TZID=America/New_York:20201201T160000
DTSTAMP:20260420T073253
CREATED:20201003T212441Z
LAST-MODIFIED:20201003T212441Z
UID:3627-1606831200-1606838400@6690exchange.com
SUMMARY:Long Term Applications Due
DESCRIPTION:Long term application due date has been extended!
URL:https://6690exchange.com/event/applications-due/
LOCATION:OH
END:VEVENT
END:VCALENDAR