BEGIN:VCALENDAR
VERSION:2.0
PRODID:-//Rotary Youth Exchange 6690 - ECPv6.14.2//NONSGML v1.0//EN
CALSCALE:GREGORIAN
METHOD:PUBLISH
X-ORIGINAL-URL:https://6690exchange.com
X-WR-CALDESC:Events for Rotary Youth Exchange 6690
REFRESH-INTERVAL;VALUE=DURATION:PT1H
X-Robots-Tag:noindex
X-PUBLISHED-TTL:PT1H
BEGIN:VTIMEZONE
TZID:America/New_York
BEGIN:DAYLIGHT
TZOFFSETFROM:-0500
TZOFFSETTO:-0400
TZNAME:EDT
DTSTART:20200308T070000
END:DAYLIGHT
BEGIN:STANDARD
TZOFFSETFROM:-0400
TZOFFSETTO:-0500
TZNAME:EST
DTSTART:20201101T060000
END:STANDARD
END:VTIMEZONE
BEGIN:VEVENT
DTSTART;TZID=America/New_York:20201013T190000
DTEND;TZID=America/New_York:20201013T200000
DTSTAMP:20260422T094942
CREATED:20200829T100724Z
LAST-MODIFIED:20200829T100724Z
UID:3579-1602615600-1602619200@6690exchange.com
SUMMARY:Virtual Informational Meeting 7
DESCRIPTION:General overview of the short and long term programs\, meet some members of the committee and also former program participants. Zoom meeting link: https://us02web.zoom.us/j/84828389642?pwd=L2gxUFZPTFNuUkg1S1VNcXA5Y1d0Zz09
URL:https://6690exchange.com/event/virtual-informational-meeting-7/
LOCATION:OH
END:VEVENT
END:VCALENDAR